BEGIN:VCALENDAR
VERSION:2.0
PRODID:-//From the Heart Church Ministries of Harrisburg - ECPv6.15.20//NONSGML v1.0//EN
CALSCALE:GREGORIAN
METHOD:PUBLISH
X-WR-CALNAME:From the Heart Church Ministries of Harrisburg
X-ORIGINAL-URL:https://fthcmharrisburg.org
X-WR-CALDESC:Events for From the Heart Church Ministries of Harrisburg
REFRESH-INTERVAL;VALUE=DURATION:PT1H
X-Robots-Tag:noindex
X-PUBLISHED-TTL:PT1H
BEGIN:VTIMEZONE
TZID:America/New_York
BEGIN:DAYLIGHT
TZOFFSETFROM:-0500
TZOFFSETTO:-0400
TZNAME:EDT
DTSTART:20250309T070000
END:DAYLIGHT
BEGIN:STANDARD
TZOFFSETFROM:-0400
TZOFFSETTO:-0500
TZNAME:EST
DTSTART:20251102T060000
END:STANDARD
BEGIN:DAYLIGHT
TZOFFSETFROM:-0500
TZOFFSETTO:-0400
TZNAME:EDT
DTSTART:20260308T070000
END:DAYLIGHT
BEGIN:STANDARD
TZOFFSETFROM:-0400
TZOFFSETTO:-0500
TZNAME:EST
DTSTART:20261101T060000
END:STANDARD
BEGIN:DAYLIGHT
TZOFFSETFROM:-0500
TZOFFSETTO:-0400
TZNAME:EDT
DTSTART:20270314T070000
END:DAYLIGHT
BEGIN:STANDARD
TZOFFSETFROM:-0400
TZOFFSETTO:-0500
TZNAME:EST
DTSTART:20271107T060000
END:STANDARD
END:VTIMEZONE
BEGIN:VEVENT
DTSTART;TZID=America/New_York:20260306T183000
DTEND;TZID=America/New_York:20260306T213000
DTSTAMP:20260424T153910
CREATED:20240502T161657Z
LAST-MODIFIED:20260306T133934Z
UID:35514-1772821800-1772832600@fthcmharrisburg.org
SUMMARY:Family Fun Night
DESCRIPTION:We are having a Family Fun Night on Friday\, March 6\, 2026\, at 6:30 pm.  This Family Night will feature an UNO Tournament Night! There will also be food\, music\, and other games available. We will have some pizza and finger foods available; however\, you are more than welcome to bring your own food. All are welcome and admission is free. We look forward to seeing you there.
URL:https://fthcmharrisburg.org/event/family-fun-night/
LOCATION:1300 Wayne St. Harrisburg PA 17104\, 1300 Wayne St\, Harrisburg\, PA\, 17104\, United States
CATEGORIES:Fellowship
END:VEVENT
BEGIN:VEVENT
DTSTART;TZID=America/New_York:20260321T090000
DTEND;TZID=America/New_York:20260321T110000
DTSTAMP:20260424T153910
CREATED:20210222T144248Z
LAST-MODIFIED:20260321T000330Z
UID:35041-1774083600-1774090800@fthcmharrisburg.org
SUMMARY:Men's Fellowship and Breakfast
DESCRIPTION:All men are invited to our Men’s Fellowship and Breakfast on Saturday\, March 21st at 9:00 am with Pastor Covington as he teaches men how to establish their life.  The Fellowship and Breakfast are free.  You do not have to be a member to attend–all are welcome! \n 
URL:https://fthcmharrisburg.org/event/mens-fellowship/
LOCATION:From the Heart Church Ministries of Harrisburg\, 1300 Wayne St\, Harrisburg\, PA\, 17104\, United States
ATTACH;FMTTYPE=image/jpeg:https://fthcmharrisburg.org/wp-content/uploads/2021/02/Mens-Fellowship-scaled.jpg
ORGANIZER;CN="Office of the Pastor":MAILTO:fthcmohoop@gmail.com
END:VEVENT
END:VCALENDAR