BEGIN:VCALENDAR
VERSION:2.0
PRODID:-//From the Heart Church Ministries of Harrisburg - ECPv6.15.20//NONSGML v1.0//EN
CALSCALE:GREGORIAN
METHOD:PUBLISH
X-ORIGINAL-URL:https://fthcmharrisburg.org
X-WR-CALDESC:Events for From the Heart Church Ministries of Harrisburg
REFRESH-INTERVAL;VALUE=DURATION:PT1H
X-Robots-Tag:noindex
X-PUBLISHED-TTL:PT1H
BEGIN:VTIMEZONE
TZID:America/New_York
BEGIN:DAYLIGHT
TZOFFSETFROM:-0500
TZOFFSETTO:-0400
TZNAME:EDT
DTSTART:20240310T070000
END:DAYLIGHT
BEGIN:STANDARD
TZOFFSETFROM:-0400
TZOFFSETTO:-0500
TZNAME:EST
DTSTART:20241103T060000
END:STANDARD
BEGIN:DAYLIGHT
TZOFFSETFROM:-0500
TZOFFSETTO:-0400
TZNAME:EDT
DTSTART:20250309T070000
END:DAYLIGHT
BEGIN:STANDARD
TZOFFSETFROM:-0400
TZOFFSETTO:-0500
TZNAME:EST
DTSTART:20251102T060000
END:STANDARD
BEGIN:DAYLIGHT
TZOFFSETFROM:-0500
TZOFFSETTO:-0400
TZNAME:EDT
DTSTART:20260308T070000
END:DAYLIGHT
BEGIN:STANDARD
TZOFFSETFROM:-0400
TZOFFSETTO:-0500
TZNAME:EST
DTSTART:20261101T060000
END:STANDARD
END:VTIMEZONE
BEGIN:VEVENT
DTSTART;TZID=America/New_York:20250920T100000
DTEND;TZID=America/New_York:20250920T140000
DTSTAMP:20260425T012516
CREATED:20240910T135915Z
LAST-MODIFIED:20250919T134215Z
UID:35532-1758362400-1758376800@fthcmharrisburg.org
SUMMARY:Women of God Lifegivers Walk and Talk Fellowship
DESCRIPTION:Women of God\, you will have a Walk and Talk Fellowship on Saturday\, September 20th at 10:00 am.  The Walk and Talk Fellowship allows women to strengthen their bodies as well as their relationships with one another.  Women will meet to park at the intersection of Derry St. and Parkway Blvd near the City Line Diner to walk a portion of the Capital Area Greenbelt Trail.  You are encouraged to attend and bring other women.
URL:https://fthcmharrisburg.org/event/women-of-god-lifegivers-walk-and-talk-fellowship/
LOCATION:PA
END:VEVENT
END:VCALENDAR