BEGIN:VCALENDAR
VERSION:2.0
PRODID:-//From the Heart Church Ministries of Harrisburg - ECPv6.15.20//NONSGML v1.0//EN
CALSCALE:GREGORIAN
METHOD:PUBLISH
X-WR-CALNAME:From the Heart Church Ministries of Harrisburg
X-ORIGINAL-URL:https://fthcmharrisburg.org
X-WR-CALDESC:Events for From the Heart Church Ministries of Harrisburg
REFRESH-INTERVAL;VALUE=DURATION:PT1H
X-Robots-Tag:noindex
X-PUBLISHED-TTL:PT1H
BEGIN:VTIMEZONE
TZID:America/New_York
BEGIN:DAYLIGHT
TZOFFSETFROM:-0500
TZOFFSETTO:-0400
TZNAME:EDT
DTSTART:20200308T070000
END:DAYLIGHT
BEGIN:STANDARD
TZOFFSETFROM:-0400
TZOFFSETTO:-0500
TZNAME:EST
DTSTART:20201101T060000
END:STANDARD
BEGIN:DAYLIGHT
TZOFFSETFROM:-0500
TZOFFSETTO:-0400
TZNAME:EDT
DTSTART:20210314T070000
END:DAYLIGHT
BEGIN:STANDARD
TZOFFSETFROM:-0400
TZOFFSETTO:-0500
TZNAME:EST
DTSTART:20211107T060000
END:STANDARD
BEGIN:DAYLIGHT
TZOFFSETFROM:-0500
TZOFFSETTO:-0400
TZNAME:EDT
DTSTART:20220313T070000
END:DAYLIGHT
BEGIN:STANDARD
TZOFFSETFROM:-0400
TZOFFSETTO:-0500
TZNAME:EST
DTSTART:20221106T060000
END:STANDARD
BEGIN:DAYLIGHT
TZOFFSETFROM:-0500
TZOFFSETTO:-0400
TZNAME:EDT
DTSTART:20230312T070000
END:DAYLIGHT
BEGIN:STANDARD
TZOFFSETFROM:-0400
TZOFFSETTO:-0500
TZNAME:EST
DTSTART:20231105T060000
END:STANDARD
BEGIN:DAYLIGHT
TZOFFSETFROM:-0500
TZOFFSETTO:-0400
TZNAME:EDT
DTSTART:20240310T070000
END:DAYLIGHT
BEGIN:STANDARD
TZOFFSETFROM:-0400
TZOFFSETTO:-0500
TZNAME:EST
DTSTART:20241103T060000
END:STANDARD
BEGIN:DAYLIGHT
TZOFFSETFROM:-0500
TZOFFSETTO:-0400
TZNAME:EDT
DTSTART:20250309T070000
END:DAYLIGHT
BEGIN:STANDARD
TZOFFSETFROM:-0400
TZOFFSETTO:-0500
TZNAME:EST
DTSTART:20251102T060000
END:STANDARD
BEGIN:DAYLIGHT
TZOFFSETFROM:-0500
TZOFFSETTO:-0400
TZNAME:EDT
DTSTART:20260308T070000
END:DAYLIGHT
BEGIN:STANDARD
TZOFFSETFROM:-0400
TZOFFSETTO:-0500
TZNAME:EST
DTSTART:20261101T060000
END:STANDARD
END:VTIMEZONE
BEGIN:VTIMEZONE
TZID:UTC
BEGIN:STANDARD
TZOFFSETFROM:+0000
TZOFFSETTO:+0000
TZNAME:UTC
DTSTART:20200101T000000
END:STANDARD
END:VTIMEZONE
BEGIN:VEVENT
DTSTART;TZID=America/New_York:20250404T183000
DTEND;TZID=America/New_York:20250404T203000
DTSTAMP:20260424T222509
CREATED:20250403T160439Z
LAST-MODIFIED:20250403T160439Z
UID:35588-1743791400-1743798600@fthcmharrisburg.org
SUMMARY:Youth Kind Words Workshop
DESCRIPTION:The first Youth Ministry Event of the year is a “Kind Words” workshop on Friday\, April 4th\, from 7:00 pm to 8:30 pm in the sanctuary\, for children aged 12-19. The workshop focuses on the power of our words and how we can use them to encourage and build up others. Throughout the workshop\, youth will explore how kind words can have a positive impact on people’s lives\, based on biblical teachings by practicing speaking kind words\, sharing real-life examples of how words can build others up\, and making a commitment to spread kindness with their words in everyday life.  Refreshments will be available at 6:30 pm.
URL:https://fthcmharrisburg.org/event/youth-kind-words-workshop/
LOCATION:1300 Wayne St. Harrisburg PA 17104\, 1300 Wayne St\, Harrisburg\, PA\, 17104\, United States
END:VEVENT
BEGIN:VEVENT
DTSTART;TZID=UTC:20250315T130000
DTEND;TZID=UTC:20250315T150000
DTSTAMP:20260424T222509
CREATED:20250226T143831Z
LAST-MODIFIED:20250226T143831Z
UID:35577-1742043600-1742050800@fthcmharrisburg.org
SUMMARY:Women of God Lifegiver Swap and Shop
DESCRIPTION:Lifegivers! You are invited to a fun and stylish\, Swap & Shop\, where you can refresh your wardrobe by exchanging new or like-new clothing\, shoes\, and accessories with other women on Saturday\, March 15th at 1pm. \nHere are the guidelines: \n\n-Items must be in excellent condition – no holes\, stains\, peeling\, scuffs on shoes\, or tarnished jewelry.\n-Lounge wear is acceptable\, but no gym clothing\, leggings\, etc.\n-All clothing should be brought on hangers.\n-Year-round clothing is welcome.\n**Please note: Items are donations and will not be returned.\n\nItems can be brought in before service between 8:30a and 9:45a and after service on March 2nd. \nCome ready to swap\, shop\, and enjoy a great fellowship with our church family! We can’t wait to see you there!
URL:https://fthcmharrisburg.org/event/women-of-god-lifegiver-swap-and-shop/
LOCATION:1300 Wayne St. Harrisburg PA 17104\, 1300 Wayne St\, Harrisburg\, PA\, 17104\, United States
END:VEVENT
BEGIN:VEVENT
DTSTART;TZID=UTC:20250301T100000
DTEND;TZID=UTC:20250301T113000
DTSTAMP:20260424T222509
CREATED:20250226T143342Z
LAST-MODIFIED:20250226T143342Z
UID:35574-1740823200-1740828600@fthcmharrisburg.org
SUMMARY:Youth Ministry Relaunch Meeting
DESCRIPTION:We have Relaunched our Youth Ministry and the first meeting will be on Saturday\, March 1st at 10am in the Overflow Room.  The ministry will serve children 5 to 18 years of age.  Parents and children are invited to come and hear the plans for the ministry and share their ideas as well. Donuts and light refreshments will be provided.
URL:https://fthcmharrisburg.org/event/youth-ministry-relaunch-meeting/
LOCATION:PA
END:VEVENT
BEGIN:VEVENT
DTSTART;TZID=America/New_York:20240518T083000
DTEND;TZID=America/New_York:20240518T123000
DTSTAMP:20260424T222509
CREATED:20230519T090043Z
LAST-MODIFIED:20240517T143410Z
UID:35274-1716021000-1716035400@fthcmharrisburg.org
SUMMARY:Men's Walk and Talk Breakfast
DESCRIPTION:Men!  There will be a Walk & Talk Breakfast on Saturday\, May 18th from 8:30 a.m. to 12:30 p.m. We will meet at From the Heart of Harrisburg at 8:30 am where the men will take an hour long walk through the neighborhood. Men will then share a breakfast at church after the walk. Men\, come out and sharpen one another and bring another man in your sphere of influence
URL:https://fthcmharrisburg.org/event/mens-walk-and-talk-breakfast-2/
LOCATION:City Line Diner\, 3302 Derry St\, Harrisburg\, PA\, 17111\, United States
END:VEVENT
BEGIN:VEVENT
DTSTART;TZID=UTC:20221119T090000
DTEND;TZID=UTC:20221119T100000
DTSTAMP:20260424T222509
CREATED:20221006T122748Z
LAST-MODIFIED:20221119T124543Z
UID:35336-1668848400-1668852000@fthcmharrisburg.org
SUMMARY:Men's Fellowship Fish Fry
DESCRIPTION:The Men’s Fellowship will take place on Saturday\, November 19th from 9:00 am to 10:00 am.  Join us as we hear God’s Word in a practical\, simple\, and Christ-centered way.
URL:https://fthcmharrisburg.org/event/mens-fellowship-fish-fry/
LOCATION:541 Walnut Rd\, Steelton\, PA\, 17113\, 541 Walnut Rd\, Steelton\, PA\, 17113\, United States
END:VEVENT
BEGIN:VEVENT
DTSTART;TZID=UTC:20220604T110000
DTEND;TZID=UTC:20220604T120000
DTSTAMP:20260424T222509
CREATED:20220518T151013Z
LAST-MODIFIED:20220518T151013Z
UID:35303-1654340400-1654344000@fthcmharrisburg.org
SUMMARY:Health and Healing Seminar:  How to Boost Immune Your System Naturally
DESCRIPTION:On Saturday\, June 4th from 11:00 to 12:30 p.m.\, we will have a health and healing presentation on “How to Boost Your Immune System Naturally.”  Join us as we learn about the immune system and give four ways on how to boost your immune system naturally to reduce illness and strengthen the immune system.  This is the first presentation in our Health and Healing Series.  All are welcome to attend and invite others!
URL:https://fthcmharrisburg.org/event/health-and-healing-seminar-how-to-boost-immune-your-system-naturally/
LOCATION:PA
END:VEVENT
BEGIN:VEVENT
DTSTART;TZID=UTC:20220423T130000
DTEND;TZID=UTC:20220423T150000
DTSTAMP:20260424T222509
CREATED:20220420T153903Z
LAST-MODIFIED:20220420T153903Z
UID:35280-1650718800-1650726000@fthcmharrisburg.org
SUMMARY:Just Us Girls--Game Day
DESCRIPTION:All young women are invited to an afternoon of games\, fun\, and Christian fellowship! We hope to see you there!
URL:https://fthcmharrisburg.org/event/just-us-girls-game-day/
LOCATION:951 S. 13 st\, Harrisburg\, PA 17104\, 951 S. 13th St.\, Harrisburg\, PA\, 17104\, United States
END:VEVENT
BEGIN:VEVENT
DTSTART;TZID=UTC:20220416T090000
DTEND;TZID=UTC:20220416T113000
DTSTAMP:20260424T222509
CREATED:20220416T151910Z
LAST-MODIFIED:20220415T122752Z
UID:35178-1650099600-1650108600@fthcmharrisburg.org
SUMMARY:Men's Walk and Talk Breakfast
DESCRIPTION:The Men’s Fellowship Ministry is having a Walk & Talk Breakfast on Saturday\, April 16th from 9:00 a.m. to 11:30 a.m. at the City Line Diner on Derry Street. The men will go on a walk on the Greenbelt starting at the diner and ending at the diner. Then they will sit and break bread with one another. Men come out\nand continue to build on our relationships with one another so that we can continue to help build our church together. You are definitely encouraged to invite another man in your sphere of influence.
URL:https://fthcmharrisburg.org/event/mens-walk-and-talk-breakfast/
LOCATION:City Line Diner\, 3302 Derry St\, Harrisburg\, PA\, 17111\, United States
ORGANIZER;CN="Office of the Pastor":MAILTO:fthcmohoop@gmail.com
END:VEVENT
BEGIN:VEVENT
DTSTART;TZID=UTC:20220326T120000
DTEND;TZID=UTC:20220326T143000
DTSTAMP:20260424T222509
CREATED:20211108T160714Z
LAST-MODIFIED:20220322T203659Z
UID:35163-1648296000-1648305000@fthcmharrisburg.org
SUMMARY:Men's Bowling Fellowship
DESCRIPTION:There will be a Men’s Bowling Fellowship on Saturday\, March 26th from 12:00 p.m. to 2:30 p.m.  All are welcome to attend! Come Join us so that we can continue to build our relationships with each other. You are encouraged to invite other men and/or bring a young man or boy in your sphere of influence. If you have questions\, please see Brother Steven Welsh Sr (SMWelshsr1@gmail.com). \nWHERE: Trindle Bowl Bowling Alley\n4695 E. Trindle Road\nMechanicsburg\, PA 17050\n(717) 737-9820\nCOST: $65.00 per lane for 2 ½ hours with 6 people to a lane.\nCurrently\, there are 4 lanes reserved.
URL:https://fthcmharrisburg.org/event/mens-bowling-fellowship/
LOCATION:PA
ORGANIZER;CN="Office of the Pastor":MAILTO:fthcmohoop@gmail.com
END:VEVENT
BEGIN:VEVENT
DTSTART;TZID=UTC:20220203T190000
DTEND;TZID=UTC:20220203T203000
DTSTAMP:20260424T222509
CREATED:20220121T161435Z
LAST-MODIFIED:20220121T161435Z
UID:35213-1643914800-1643920200@fthcmharrisburg.org
SUMMARY:Parenting Enrichment Class
DESCRIPTION:Registration is now available for our Parenting Enrichment Class.  The Parenting Enrichment Class is a 7-week class that occurs on Thursday at 7:00 p.m. beginning on February 3rd.  The class aims to maximize and strengthen parenting skills to help and encourage parents to effectively train up their children according to the Word of God.  Students can attend in-person and via Zoom.  Members and nonmembers may register by emailing love@fthcmharrisburg.org.
URL:https://fthcmharrisburg.org/event/parenting-enrichment-class/
LOCATION:PA
END:VEVENT
BEGIN:VEVENT
DTSTART;TZID=UTC:20211211T110000
DTEND;TZID=UTC:20211211T160000
DTSTAMP:20260424T222509
CREATED:20211207T154221Z
LAST-MODIFIED:20211207T154221Z
UID:35183-1639220400-1639238400@fthcmharrisburg.org
SUMMARY:YAPP Country Fall Festival
DESCRIPTION:All are welcome to attend our Youth Against Peer Pressure (YAPP) Country Fall Festival!  It will take place on this Saturday\, December 11th at the church campus from 11am to 4pm.  There will be music\, apple cider\, food\, games\, pumpkin painting & more.  All free\, but donations will be accepted. Attire is jeans and flannel shirts.  Please note that this attire is not mandatory!
URL:https://fthcmharrisburg.org/event/yapp-country-fall-festival/
LOCATION:PA
ORGANIZER;CN="Office of the Pastor":MAILTO:fthcmohoop@gmail.com
END:VEVENT
BEGIN:VEVENT
DTSTART;TZID=America/New_York:20211204T090000
DTEND;TZID=America/New_York:20211204T110000
DTSTAMP:20260424T222509
CREATED:20210222T153400Z
LAST-MODIFIED:20211108T160911Z
UID:35059-1638608400-1638615600@fthcmharrisburg.org
SUMMARY:New Members' Orientation
DESCRIPTION:This is an opportunity for new and perspective members to learn more about the role our church plays in your life and the expectations for each member of our church.  The orientation will have a hybrid format.  We will allow members to attend virtually and some in-person.  We ask that you register by emailing love@fthcmharrisburg.org or by calling the church at (717) 238-1408.
URL:https://fthcmharrisburg.org/event/new-members-orientation/
LOCATION:From the Heart Church Ministries of Harrisburg\, 1300 Wayne St\, Harrisburg\, PA\, 17104\, United States
ORGANIZER;CN="Office of the Pastor":MAILTO:fthcmohoop@gmail.com
END:VEVENT
BEGIN:VEVENT
DTSTART;TZID=America/New_York:20211202T194500
DTEND;TZID=America/New_York:20211202T204500
DTSTAMP:20260424T222509
CREATED:20210222T150132Z
LAST-MODIFIED:20211202T210139Z
UID:35048-1638474300-1638477900@fthcmharrisburg.org
SUMMARY:Men's Bible and Prayer Group
DESCRIPTION:Proverbs 27:17 “Iron Sharpens iron\, So a man sharpens the countenance of his friend.” \nAll men are invited to attend and participate in FTHCM of Harrisburg’s Men’s Bible and Prayer Group.  Through this group\, men will build their life on a strong foundation by studying God’s Word and praying for another.  We review one chapter of Proverbs each group meeting.  We ask that men read and meditate on the assigned chapter before each meeting and come ready to share what they believe is relevant for the men.  On Thursday\, December 2nd\, we will review Proverbs 28.   \n*The meeting link\, phone number\, and meeting id will be the same for each meeting. \nHere are three ways to join the meeting: \n1. Join from PC\, MAC\, iOS\, or Android \nClick the following link: https://us02web.zoom.us/j/84887345033 \n2. iphone one-tap \n+16468769923\,\,84887345033# \n3. Joining via telephone \nDial-in-number: (646) 876 9923 \nMeeting ID: 848 8734 5033 \n 
URL:https://fthcmharrisburg.org/event/mens-bible-and-prayer-group/
LOCATION:From the Heart Church Ministries of Harrisburg\, 1300 Wayne St\, Harrisburg\, PA\, 17104\, United States
ATTACH;FMTTYPE=image/jpeg:https://fthcmharrisburg.org/wp-content/uploads/2021/02/Men-bible-and-prayer-group_1678439425-scaled.jpg
ORGANIZER;CN="Office of the Pastor":MAILTO:fthcmohoop@gmail.com
END:VEVENT
BEGIN:VEVENT
DTSTART;TZID=UTC:20211106T123000
DTEND;TZID=UTC:20211106T143000
DTSTAMP:20260424T222509
CREATED:20211102T005006Z
LAST-MODIFIED:20211102T005444Z
UID:35151-1636201800-1636209000@fthcmharrisburg.org
SUMMARY:Children's Fall Fellowship
DESCRIPTION:The Children’s Fall Fellowship is on Saturday\, November 6th beginning at 12:30 pm at Adams-Ricci Park.  We will be stationed at the Commonwealth Pavilion.  This event is co-sponsored by the Events and Youth Against Peer Pressure (YAPP) ministries.  We will have pizza and pastries along with some friendly games that all children can participate in.  We welcome all visitors and guests. If you are not a member of From the Heart Church Ministries of Harrisburg\, please register by clicking here and completing the form.
URL:https://fthcmharrisburg.org/event/childrens-fall-fellowship/
LOCATION:Adams-Ricci Park\, 100 E Penn Dr\, Enola\, PA\, 17025\, United States
ORGANIZER;CN="Office of the Pastor":MAILTO:fthcmohoop@gmail.com
END:VEVENT
END:VCALENDAR