BEGIN:VCALENDAR
VERSION:2.0
PRODID:-//From the Heart Church Ministries of Harrisburg - ECPv6.15.20//NONSGML v1.0//EN
CALSCALE:GREGORIAN
METHOD:PUBLISH
X-WR-CALNAME:From the Heart Church Ministries of Harrisburg
X-ORIGINAL-URL:https://fthcmharrisburg.org
X-WR-CALDESC:Events for From the Heart Church Ministries of Harrisburg
REFRESH-INTERVAL;VALUE=DURATION:PT1H
X-Robots-Tag:noindex
X-PUBLISHED-TTL:PT1H
BEGIN:VTIMEZONE
TZID:America/New_York
BEGIN:DAYLIGHT
TZOFFSETFROM:-0500
TZOFFSETTO:-0400
TZNAME:EDT
DTSTART:20250309T070000
END:DAYLIGHT
BEGIN:STANDARD
TZOFFSETFROM:-0400
TZOFFSETTO:-0500
TZNAME:EST
DTSTART:20251102T060000
END:STANDARD
BEGIN:DAYLIGHT
TZOFFSETFROM:-0500
TZOFFSETTO:-0400
TZNAME:EDT
DTSTART:20260308T070000
END:DAYLIGHT
BEGIN:STANDARD
TZOFFSETFROM:-0400
TZOFFSETTO:-0500
TZNAME:EST
DTSTART:20261101T060000
END:STANDARD
BEGIN:DAYLIGHT
TZOFFSETFROM:-0500
TZOFFSETTO:-0400
TZNAME:EDT
DTSTART:20270314T070000
END:DAYLIGHT
BEGIN:STANDARD
TZOFFSETFROM:-0400
TZOFFSETTO:-0500
TZNAME:EST
DTSTART:20271107T060000
END:STANDARD
END:VTIMEZONE
BEGIN:VEVENT
DTSTART;TZID=America/New_York:20260416T193000
DTEND;TZID=America/New_York:20260416T203000
DTSTAMP:20260424T160441
CREATED:20260415T210416Z
LAST-MODIFIED:20260415T210416Z
UID:35813-1776367800-1776371400@fthcmharrisburg.org
SUMMARY:Financial Excellence Class
DESCRIPTION:If you would like to learn how to experience financial freedom\, then we invite you to enroll in Part I of the Financial Excellence Class.  This 7-week class begins on Thursday\, April 16th at 7:30 pm. In this class\, students will learn biblical principals on money and stewardship to get out of debt\, save\, invest\, give wisely\, and how to avoid common financial mistakes.  You may register via Realm.  Guests are welcome and you do not need to be a member to attend.
URL:https://fthcmharrisburg.org/event/financial-excellence-class/
LOCATION:300 Hale Avenue\, Harrisburg\, PA 17104\, 300 Hale Ave\, Harrisburg\, PA\, 17104\, United States
END:VEVENT
END:VCALENDAR