BEGIN:VCALENDAR
VERSION:2.0
PRODID:-//From the Heart Church Ministries of Harrisburg - ECPv6.15.20//NONSGML v1.0//EN
CALSCALE:GREGORIAN
METHOD:PUBLISH
X-ORIGINAL-URL:https://fthcmharrisburg.org
X-WR-CALDESC:Events for From the Heart Church Ministries of Harrisburg
REFRESH-INTERVAL;VALUE=DURATION:PT1H
X-Robots-Tag:noindex
X-PUBLISHED-TTL:PT1H
BEGIN:VTIMEZONE
TZID:America/New_York
BEGIN:DAYLIGHT
TZOFFSETFROM:-0500
TZOFFSETTO:-0400
TZNAME:EDT
DTSTART:20250309T070000
END:DAYLIGHT
BEGIN:STANDARD
TZOFFSETFROM:-0400
TZOFFSETTO:-0500
TZNAME:EST
DTSTART:20251102T060000
END:STANDARD
BEGIN:DAYLIGHT
TZOFFSETFROM:-0500
TZOFFSETTO:-0400
TZNAME:EDT
DTSTART:20260308T070000
END:DAYLIGHT
BEGIN:STANDARD
TZOFFSETFROM:-0400
TZOFFSETTO:-0500
TZNAME:EST
DTSTART:20261101T060000
END:STANDARD
BEGIN:DAYLIGHT
TZOFFSETFROM:-0500
TZOFFSETTO:-0400
TZNAME:EDT
DTSTART:20270314T070000
END:DAYLIGHT
BEGIN:STANDARD
TZOFFSETFROM:-0400
TZOFFSETTO:-0500
TZNAME:EST
DTSTART:20271107T060000
END:STANDARD
END:VTIMEZONE
BEGIN:VEVENT
DTSTART;TZID=America/New_York:20260403T193000
DTEND;TZID=America/New_York:20260403T210000
DTSTAMP:20260424T155025
CREATED:20260402T142516Z
LAST-MODIFIED:20260402T142516Z
UID:35786-1775244600-1775250000@fthcmharrisburg.org
SUMMARY:Good Friday Service
DESCRIPTION:Our Good Friday Service will take place on Friday\, April 3\, 2026\,at 7:30 pm. Join us as we solemnly reflect on the crucifixion of Jesus Christ and His death at Calvary.  Doors open at 7:00 pm.
URL:https://fthcmharrisburg.org/event/good-friday-service/
LOCATION:300 Hale Avenue\, Harrisburg\, PA 17104\, 300 Hale Ave\, Harrisburg\, PA\, 17104\, United States
END:VEVENT
END:VCALENDAR